BEGIN:VCALENDAR
VERSION:2.0
PRODID:icalendar-ruby
CALSCALE:GREGORIAN
METHOD:PUBLISH
BEGIN:VEVENT
DTSTAMP:20260425T172127Z
UID:6-230841@clintonunitedmethodist.org
DTSTART:20261101T160000Z
DTEND:20261101T170000Z
CLASS:PUBLIC
CREATED:20260425T111032
DESCRIPTION:
LAST-MODIFIED:20260425T111032
LOCATION:
SUMMARY:Sunday Worship
URL;VALUE=URI:https://clintonunitedmethodist.org/events/sunday-worship/2026
 -11-01
END:VEVENT
END:VCALENDAR
