BEGIN:VCALENDAR
VERSION:2.0
PRODID:icalendar-ruby
CALSCALE:GREGORIAN
METHOD:PUBLISH
BEGIN:VEVENT
DTSTAMP:20260425T154008Z
UID:6-230840@clintonunitedmethodist.org
DTSTART:20261025T150000Z
DTEND:20261025T160000Z
CLASS:PUBLIC
CREATED:20260425T111032
DESCRIPTION:
LAST-MODIFIED:20260425T111032
LOCATION:
SUMMARY:Sunday Worship
URL;VALUE=URI:https://clintonunitedmethodist.org/events/sunday-worship/2026
 -10-25
END:VEVENT
END:VCALENDAR
