BEGIN:VCALENDAR
VERSION:2.0
PRODID:icalendar-ruby
CALSCALE:GREGORIAN
METHOD:PUBLISH
BEGIN:VEVENT
DTSTAMP:20260425T135121Z
UID:6-230773@clintonunitedmethodist.org
DTSTART:20261018T150000Z
DTEND:20261018T160000Z
CLASS:PUBLIC
CREATED:20260425T082937
DESCRIPTION:
LAST-MODIFIED:20260425T082937
LOCATION:
SUMMARY:Sunday Worship
URL;VALUE=URI:https://clintonunitedmethodist.org/events/sunday-worship/2026
 -10-18
END:VEVENT
END:VCALENDAR
