BEGIN:VCALENDAR
VERSION:2.0
PRODID:icalendar-ruby
CALSCALE:GREGORIAN
METHOD:PUBLISH
BEGIN:VEVENT
DTSTAMP:20260425T115632Z
UID:6-230706@clintonunitedmethodist.org
DTSTART:20261011T150000Z
DTEND:20261011T160000Z
CLASS:PUBLIC
CREATED:20260424T224556
DESCRIPTION:
LAST-MODIFIED:20260424T224556
LOCATION:
SUMMARY:Sunday Worship
URL;VALUE=URI:https://clintonunitedmethodist.org/events/sunday-worship/2026
 -10-11
END:VEVENT
END:VCALENDAR
