BEGIN:VCALENDAR
VERSION:2.0
PRODID:icalendar-ruby
CALSCALE:GREGORIAN
METHOD:PUBLISH
BEGIN:VEVENT
DTSTAMP:20260423T084948Z
UID:6-229912@clintonunitedmethodist.org
DTSTART:20260927T150000Z
DTEND:20260927T160000Z
CLASS:PUBLIC
CREATED:20260422T231211
DESCRIPTION:
LAST-MODIFIED:20260422T231211
LOCATION:
SUMMARY:Sunday Worship
URL;VALUE=URI:https://clintonunitedmethodist.org/events/sunday-worship/2026
 -09-27
END:VEVENT
END:VCALENDAR
